BEGIN:VCALENDAR
VERSION:2.0
PRODID:-//Sunshine Brewery - ECPv6.15.15//NONSGML v1.0//EN
CALSCALE:GREGORIAN
METHOD:PUBLISH
X-WR-CALNAME:Sunshine Brewery
X-ORIGINAL-URL:https://sunshinebrewery.com.au
X-WR-CALDESC:Events for Sunshine Brewery
REFRESH-INTERVAL;VALUE=DURATION:PT1H
X-Robots-Tag:noindex
X-PUBLISHED-TTL:PT1H
BEGIN:VTIMEZONE
TZID:Australia/Brisbane
BEGIN:STANDARD
TZOFFSETFROM:+1000
TZOFFSETTO:+1000
TZNAME:AEST
DTSTART:20250101T000000
END:STANDARD
END:VTIMEZONE
BEGIN:VEVENT
DTSTART;TZID=Australia/Brisbane:20260510T120000
DTEND;TZID=Australia/Brisbane:20260510T190000
DTSTAMP:20260425T023505
CREATED:20260424T043044Z
LAST-MODIFIED:20260424T043044Z
UID:4181-1778414400-1778439600@sunshinebrewery.com.au
SUMMARY:Mother's Day
DESCRIPTION:Today we celebrate all those who nurtured and cared for us.   So treat your Mum to lunch and swing by for a cold beer or we will be offering Sparkling wine by the glass \n 
URL:https://sunshinebrewery.com.au/event/mothers-day/
END:VEVENT
BEGIN:VEVENT
DTSTART;TZID=Australia/Brisbane:20260516T120000
DTEND;TZID=Australia/Brisbane:20260516T160000
DTSTAMP:20260425T023505
CREATED:20240502T040410Z
LAST-MODIFIED:20260424T045731Z
UID:2775-1778932800-1778947200@sunshinebrewery.com.au
SUMMARY:Low & Slow BBQ Masterclass
DESCRIPTION:Learn from the Best – This four-hour masterclass will allow you take your Low & Slow BBQ skillset to the next level. The Bovine Technicians will cover everything from temperature control\, flavour profiling & trimming selected cuts. \nThis is an interactive class allowing for plenty of opportunities for Q&A. Not to mention a 10 protein\, 6-course feast of award-winning BBQ all cooked over charcoal & wood.  Book you tickets here \nWhat’s Included \n\n$80 Cotton Tree Meats voucher\n10 different types of smoked meats served over 6 courses\nLow & Slow recipe magnet\n2 x Sunshine Brewery beers\n4 hours of hardcore BBQ talk\n\nNOTE   Book Early because these always sell out
URL:https://sunshinebrewery.com.au/event/low-slow-masterclass/
CATEGORIES:Low & Slow BBQ Classes
ATTACH;FMTTYPE=image/jpeg:https://sunshinebrewery.com.au/wp-content/uploads/2021/05/BBQ.jpg
END:VEVENT
BEGIN:VEVENT
DTSTART;TZID=Australia/Brisbane:20260521T120000
DTEND;TZID=Australia/Brisbane:20260521T190000
DTSTAMP:20260425T023505
CREATED:20250830T051810Z
LAST-MODIFIED:20260424T045832Z
UID:3962-1779364800-1779390000@sunshinebrewery.com.au
SUMMARY:Classic Burgers with Neat's Eats
DESCRIPTION:Kev & Anita are back with their classic burgers\, seafood share platters and flathead & chips\, options for lunch and dinner. \n  \n 
URL:https://sunshinebrewery.com.au/event/classic-burgers-with-neats-eats/
CATEGORIES:Food Truck
ATTACH;FMTTYPE=image/jpeg:https://sunshinebrewery.com.au/wp-content/uploads/2025/08/Cheeki-Chicken-Burger-1.jpg
END:VEVENT
BEGIN:VEVENT
DTSTART;TZID=Australia/Brisbane:20260522T120000
DTEND;TZID=Australia/Brisbane:20260522T190000
DTSTAMP:20260425T023505
CREATED:20260424T050702Z
LAST-MODIFIED:20260424T050702Z
UID:4191-1779451200-1779476400@sunshinebrewery.com.au
SUMMARY:Bespoke Burgers
DESCRIPTION:Imagine a burger so large it needs a stake to hold it together\, and then top that with onion rings ……  SO Good! \nThat’s the burgers on offer by Anita and Kev of Neat’s Eats for lunch and dinner.  Or jump on the flathead and chips or seafood share plates…
URL:https://sunshinebrewery.com.au/event/bespoke-burgers/
CATEGORIES:Food Truck
ATTACH;FMTTYPE=image/jpeg:https://sunshinebrewery.com.au/wp-content/uploads/2025/08/Cheeki-Chicken-Burger-2-scaled.jpg
END:VEVENT
BEGIN:VEVENT
DTSTART;VALUE=DATE:20260527
DTEND;VALUE=DATE:20260528
DTSTAMP:20260425T023505
CREATED:20260424T045337Z
LAST-MODIFIED:20260424T045337Z
UID:4187-1779840000-1779926399@sunshinebrewery.com.au
SUMMARY:Brewery Closed
DESCRIPTION:
URL:https://sunshinebrewery.com.au/event/brewery-closed-3/
END:VEVENT
BEGIN:VEVENT
DTSTART;TZID=Australia/Brisbane:20260528T150000
DTEND;TZID=Australia/Brisbane:20260528T190000
DTSTAMP:20260425T023505
CREATED:20260101T041820Z
LAST-MODIFIED:20260424T045259Z
UID:4111-1779980400-1779994800@sunshinebrewery.com.au
SUMMARY:Brewery Open from 3pm
DESCRIPTION:
URL:https://sunshinebrewery.com.au/event/brewery-open-from-3pm-3/
END:VEVENT
END:VCALENDAR