BEGIN:VCALENDAR
VERSION:2.0
PRODID:-//Sunshine Brewery - ECPv6.15.15//NONSGML v1.0//EN
CALSCALE:GREGORIAN
METHOD:PUBLISH
X-ORIGINAL-URL:https://sunshinebrewery.com.au
X-WR-CALDESC:Events for Sunshine Brewery
REFRESH-INTERVAL;VALUE=DURATION:PT1H
X-Robots-Tag:noindex
X-PUBLISHED-TTL:PT1H
BEGIN:VTIMEZONE
TZID:Australia/Brisbane
BEGIN:STANDARD
TZOFFSETFROM:+1000
TZOFFSETTO:+1000
TZNAME:AEST
DTSTART:20240101T000000
END:STANDARD
END:VTIMEZONE
BEGIN:VEVENT
DTSTART;TZID=Australia/Brisbane:20251031T120000
DTEND;TZID=Australia/Brisbane:20251031T190000
DTSTAMP:20260420T094635
CREATED:20250926T054128Z
LAST-MODIFIED:20250926T054557Z
UID:4008-1761912000-1761937200@sunshinebrewery.com.au
SUMMARY:Halloween Burgers & Fish & Chips
DESCRIPTION:Kev & Anita are back with their classic burgers and chips and flathead and chips options for lunch and dinner.
URL:https://sunshinebrewery.com.au/event/halloween-burgers-fish-chips/
CATEGORIES:Food Truck
ATTACH;FMTTYPE=image/jpeg:https://sunshinebrewery.com.au/wp-content/uploads/2025/08/Cheeki-Chicken-Burger-1.jpg
END:VEVENT
BEGIN:VEVENT
DTSTART;TZID=Australia/Brisbane:20251101T153000
DTEND;TZID=Australia/Brisbane:20251101T190000
DTSTAMP:20260420T094635
CREATED:20250926T061802Z
LAST-MODIFIED:20251031T032348Z
UID:4016-1762011000-1762023600@sunshinebrewery.com.au
SUMMARY:Italian Pizza  - Cancelled due to weather
DESCRIPTION:Today we have lovely Agata and Carlo here throwing the dough and bringing us an authentic taste of Italy – check out the new “Spice of Life” pizza on the menu.
URL:https://sunshinebrewery.com.au/event/italian-pizza/
CATEGORIES:Food Truck
ATTACH;FMTTYPE=image/jpeg:https://sunshinebrewery.com.au/wp-content/uploads/2025/09/White-Capri-Pizza.jpg
END:VEVENT
BEGIN:VEVENT
DTSTART;TZID=Australia/Brisbane:20251106T120000
DTEND;TZID=Australia/Brisbane:20251106T190000
DTSTAMP:20260420T094635
CREATED:20250926T054806Z
LAST-MODIFIED:20250926T054806Z
UID:4011-1762430400-1762455600@sunshinebrewery.com.au
SUMMARY:Classic Burgers & Fish & Chips
DESCRIPTION:Kev & Anita are back with their classic burgers and chips and flathead and chips options for lunch and dinner.
URL:https://sunshinebrewery.com.au/event/classic-burgers-fish-chips/
CATEGORIES:Food Truck
END:VEVENT
BEGIN:VEVENT
DTSTART;TZID=Australia/Brisbane:20251120T120000
DTEND;TZID=Australia/Brisbane:20251120T190000
DTSTAMP:20260420T094635
CREATED:20240417T081936Z
LAST-MODIFIED:20251119T223212Z
UID:2756-1763640000-1763665200@sunshinebrewery.com.au
SUMMARY:Greek Thursday  & Jug Day
DESCRIPTION:Come and see chef Yianni of Akropolis Noosa for a feast of authentic Greek Street Food\, straight off the grill.   Everything is made fresh and is hand cut and seasoned by Yianni\, as he calls upon his heritage and formal training in traditional Greek cuisine. \nAnd Thursday is Jug Day and the feature beer for the Jug special today is the Euro Pilsner at 4.8%
URL:https://sunshinebrewery.com.au/event/greek-thursday-2/
CATEGORIES:Food Truck
ATTACH;FMTTYPE=image/jpeg:https://sunshinebrewery.com.au/wp-content/uploads/2024/04/Authentic-Greek-Food.jpg
END:VEVENT
BEGIN:VEVENT
DTSTART;TZID=Australia/Brisbane:20251207T163000
DTEND;TZID=Australia/Brisbane:20251207T190000
DTSTAMP:20260420T094635
CREATED:20231028T070018Z
LAST-MODIFIED:20251106T013240Z
UID:2602-1765125000-1765134000@sunshinebrewery.com.au
SUMMARY:Last Family Trivia and Sausage Sizzle
DESCRIPTION:Get your team together and join us for Quizzame Trivia.  Expect this one to be a Music and General knowledge themed trivia\, but still with lots of music and Full-on participation.\nRegistrations kick off at 4pm for a 4.30pm start.   Prizes for first\, second and thir \nAnd we will have a sausage sizzle compliments of Cotton Tree Meats
URL:https://sunshinebrewery.com.au/event/last-trivia-for-the-year/
CATEGORIES:Food Truck,Trivia
END:VEVENT
BEGIN:VEVENT
DTSTART;TZID=Australia/Brisbane:20251211T120000
DTEND;TZID=Australia/Brisbane:20251211T160000
DTSTAMP:20260420T094635
CREATED:20250807T062452Z
LAST-MODIFIED:20251210T033751Z
UID:3937-1765454400-1765468800@sunshinebrewery.com.au
SUMMARY:Imagine a Pizza Taco
DESCRIPTION:Carlo and Agata are the faces behind some of the BEST pizza you will ever have!  They draw on their Italian heritage to make their own dough – light and crispy and add a selection of toppings (think porcini\, artichokes\, pepperoni and so much more) to make a Pizza that is exquisite. And this time they have something NEW just for lunch – imagine a pizza folded like a taco but oversized… and full of Italian goodies.  Check out the menu \nThis is a day I ALWAYS look forward to
URL:https://sunshinebrewery.com.au/event/italian-wood-fired-pizza/
CATEGORIES:Food Truck
ATTACH;FMTTYPE=image/jpeg:https://sunshinebrewery.com.au/wp-content/uploads/2025/08/1000043384.jpg
END:VEVENT
BEGIN:VEVENT
DTSTART;TZID=Australia/Brisbane:20251218T120000
DTEND;TZID=Australia/Brisbane:20251218T190000
DTSTAMP:20260420T094635
CREATED:20251205T014358Z
LAST-MODIFIED:20251213T031548Z
UID:4083-1766059200-1766084400@sunshinebrewery.com.au
SUMMARY:Pizza Taco for Lunch anyone?
DESCRIPTION:Carlo and Agata are the faces behind some of the BEST pizza you will ever have!  They draw on their Italian heritage to make their own dough – light and crispy and add a selection of toppings (think porcini\, artichokes\, pepperoni and so much more) to make a Pizza that is exquisite. And this time they have something NEW just for lunch – imagine a pizza folded like a taco but oversized… and full of Italian goodies.  Check out the lunch menu at $17 a Panuozzo. \nLunch menu available midday to 4pm and pizzas to 7pm \nThis is a day I ALWAYS look forward to
URL:https://sunshinebrewery.com.au/event/pizza-taco-for-lunch-anyone/
CATEGORIES:Food Truck
ATTACH;FMTTYPE=image/jpeg:https://sunshinebrewery.com.au/wp-content/uploads/2025/08/1000043384.jpg
END:VEVENT
BEGIN:VEVENT
DTSTART;TZID=Australia/Brisbane:20251221T153000
DTEND;TZID=Australia/Brisbane:20251221T190000
DTSTAMP:20260420T094635
CREATED:20251106T015246Z
LAST-MODIFIED:20251106T015246Z
UID:4036-1766331000-1766343600@sunshinebrewery.com.au
SUMMARY:Brewery Christmas Party
DESCRIPTION:One of my favourite Days of the Year – Our Christmas Party – when I get to give away masses of prizes and have lots of fun doing it! \nThis Year we will have lovely Bryony of Coastal Face Painting here from 4.30 to 6.30 with free facepainting for the kids (including the big kids….) And we will have Carlo and Agata of Dough’s Guys Pizza here  from 3.30pm \nCome and join in the fun – raffle tickets will be given out with every drink sale from 3.30 pm on and every half hour or so we will ring the bell and draw some prizes – watch out there are a few booby prizes too… \n  \n 
URL:https://sunshinebrewery.com.au/event/brewery-christmas-party/
CATEGORIES:Festival,Food Truck
ATTACH;FMTTYPE=image/jpeg:https://sunshinebrewery.com.au/wp-content/uploads/2023/12/Christmas-2023-scaled.jpg
END:VEVENT
BEGIN:VEVENT
DTSTART;TZID=Australia/Brisbane:20260108T120000
DTEND;TZID=Australia/Brisbane:20260108T190000
DTSTAMP:20260420T094635
CREATED:20250926T053953Z
LAST-MODIFIED:20260101T040712Z
UID:4006-1767873600-1767898800@sunshinebrewery.com.au
SUMMARY:Classic Burgers or Fish & Chips
DESCRIPTION:Kev & Anita of Neat’s Eats are back with their classic burgers\, seafood share platters and flathead and chips options for lunch and dinner.
URL:https://sunshinebrewery.com.au/event/classic-burgers-or-fish-chips/
CATEGORIES:Food Truck
ATTACH;FMTTYPE=image/jpeg:https://sunshinebrewery.com.au/wp-content/uploads/2025/08/Cheeki-Chicken-Burger-1.jpg
END:VEVENT
BEGIN:VEVENT
DTSTART;TZID=Australia/Brisbane:20260109T120000
DTEND;TZID=Australia/Brisbane:20260109T190000
DTSTAMP:20260420T094635
CREATED:20260101T040849Z
LAST-MODIFIED:20260101T041502Z
UID:4105-1767960000-1767985200@sunshinebrewery.com.au
SUMMARY:Seafood Share platters
DESCRIPTION:Kev & Anita of Neat’s Eats are back with their classic burgers\, seafood share platters and flathead and chips options for lunch and dinner.
URL:https://sunshinebrewery.com.au/event/seafood-share-platters/
CATEGORIES:Food Truck
ATTACH;FMTTYPE=image/jpeg:https://sunshinebrewery.com.au/wp-content/uploads/2025/08/Cheeki-Chicken-Burger-1.jpg
END:VEVENT
BEGIN:VEVENT
DTSTART;TZID=Australia/Brisbane:20260110T153000
DTEND;TZID=Australia/Brisbane:20260110T190000
DTSTAMP:20260420T094635
CREATED:20250618T012622Z
LAST-MODIFIED:20260107T022121Z
UID:3855-1768059000-1768071600@sunshinebrewery.com.au
SUMMARY:Authentic Italian Wood-fired Pizza
DESCRIPTION:Carlo and Agata of Dough’s Guys Pizza are calling on their own heritage to cook us authentic Italian wood-fired Pizza from 3.30pm today. \nTheir Pizza’s are amazing!
URL:https://sunshinebrewery.com.au/event/authentic-italian-wood-fired-pizza-2/
CATEGORIES:Food Truck
ATTACH;FMTTYPE=image/webp:https://sunshinebrewery.com.au/wp-content/uploads/2025/05/Carlo-Agata-on-the-Pizza-Roll.webp
END:VEVENT
BEGIN:VEVENT
DTSTART;TZID=Australia/Brisbane:20260122T000000
DTEND;TZID=Australia/Brisbane:20260122T190000
DTSTAMP:20260420T094635
CREATED:20260101T042047Z
LAST-MODIFIED:20260101T042047Z
UID:4113-1769040000-1769108400@sunshinebrewery.com.au
SUMMARY:Seki Street Eats
DESCRIPTION:Today we have an all new food Van – Chef Denise has launched out of her own with Seki Street Eats – Check out the menu ! \nI know I am looking forward to trying the Croque Monshroom
URL:https://sunshinebrewery.com.au/event/seki-street-eats-3/
CATEGORIES:Food Truck
ATTACH;FMTTYPE=image/jpeg:https://sunshinebrewery.com.au/wp-content/uploads/2025/11/Seki-street-eats-menu.jpg
END:VEVENT
BEGIN:VEVENT
DTSTART;TZID=Australia/Brisbane:20260124T153000
DTEND;TZID=Australia/Brisbane:20260124T190000
DTSTAMP:20260420T094635
CREATED:20250618T013158Z
LAST-MODIFIED:20260107T022229Z
UID:3860-1769268600-1769281200@sunshinebrewery.com.au
SUMMARY:Authentic Italian Wood-fired Pizza
DESCRIPTION:Carlo and Agata of Dough’s Guys Pizza are calling on their own heritage to cook us authentic Italian wood-fired Pizza from 3.30pm today. \nTheir Pizza’s are amazing!
URL:https://sunshinebrewery.com.au/event/authentic-italian-wood-fired-pizza-3/
CATEGORIES:Food Truck
ATTACH;FMTTYPE=image/webp:https://sunshinebrewery.com.au/wp-content/uploads/2025/05/Carlo-Agata-on-the-Pizza-Roll.webp
END:VEVENT
BEGIN:VEVENT
DTSTART;TZID=Australia/Brisbane:20260227T120000
DTEND;TZID=Australia/Brisbane:20260227T190000
DTSTAMP:20260420T094635
CREATED:20231110T055322Z
LAST-MODIFIED:20260211T051353Z
UID:2616-1772193600-1772218800@sunshinebrewery.com.au
SUMMARY:Korean Feast with a Cold Beer
DESCRIPTION:Imagine Crispy Fried Chicken with a spicy authentic Korean sauce ………    sounds like all you need is a beer to top it off! \nWe are very excited to host Sean Kim and his Korean Food Cart here at the brewery for lunch and dinner. – Craig says\, “BEST wrap ever ….” \n 
URL:https://sunshinebrewery.com.au/event/korean-feast-with-a-cold-beer/
CATEGORIES:Food Truck
ATTACH;FMTTYPE=image/jpeg:https://sunshinebrewery.com.au/wp-content/uploads/2023/11/Korean-chicken-skewers-scaled.jpg
END:VEVENT
BEGIN:VEVENT
DTSTART;TZID=Australia/Brisbane:20260228T160000
DTEND;TZID=Australia/Brisbane:20260228T190000
DTSTAMP:20260420T094635
CREATED:20260211T052604Z
LAST-MODIFIED:20260219T021403Z
UID:4130-1772294400-1772305200@sunshinebrewery.com.au
SUMMARY:Karaoke & Greek Food
DESCRIPTION:After the success of our first two events\, and some awesome singers uncovered\, we are now hosting Karaoke on the last Saturday of the month.  Our good Friend Rowan from Quizmical Sound & Vision has put together a Karaoke session – Quizmical Karaoke!  So\, get your voice in tune and join us for the fun from 4pm  to 7pm – register your name and song from 4pm and be ready to start from 4.30pm \nWe also say Farewell to Jonte Today\, as he flies out to Japan on 2 March to help his Mum and Dad setup Senba Brewing Company in Mito\, Ibaraki \nWe are also welcoming back Yanni of Akropolis Noosa\, after a well earned break.  Yanni will be serving Yeeros with lamb\, chicken or vegetables cooked on the grill and delicious hand seasoned calamari \n 
URL:https://sunshinebrewery.com.au/event/warm-up-the-vocal-chords-for-karaoke/
CATEGORIES:Food Truck,Live Music
ATTACH;FMTTYPE=image/jpeg:https://sunshinebrewery.com.au/wp-content/uploads/2025/05/Hand-cut-Seasoned-Calamari.jpg
END:VEVENT
BEGIN:VEVENT
DTSTART;TZID=Australia/Brisbane:20260313T120000
DTEND;TZID=Australia/Brisbane:20260313T190000
DTSTAMP:20260420T094635
CREATED:20250918T034549Z
LAST-MODIFIED:20260305T061709Z
UID:3991-1773403200-1773428400@sunshinebrewery.com.au
SUMMARY:Korean Feast with Heavenly Cuisine
DESCRIPTION:Imagine Crispy Fried Chicken with a spicy authentic Korean sauce ………    sounds like all you need is a beer to top it off! \nWe are always excited to host Sean Kim and his Korean Food Cart here at the brewery for lunch and dinner. – Craig says\, “BEST wrap ever ….”  Or enjoy his super share plates. His chicken is delicious! and he has a new item on the menu for the vegetarians amongst us .
URL:https://sunshinebrewery.com.au/event/korean-feast-with-heavenly-cuisine/
CATEGORIES:Food Truck
ATTACH;FMTTYPE=image/jpeg:https://sunshinebrewery.com.au/wp-content/uploads/2025/09/Korean-Chicken-Irish-Dream.jpg
END:VEVENT
BEGIN:VEVENT
DTSTART;TZID=Australia/Brisbane:20260320T120000
DTEND;TZID=Australia/Brisbane:20260320T190000
DTSTAMP:20260420T094635
CREATED:20250830T051810Z
LAST-MODIFIED:20260305T062336Z
UID:3962-1774008000-1774033200@sunshinebrewery.com.au
SUMMARY:Classic Burgers with Neat's Eats
DESCRIPTION:Kev & Anita are back with their classic burgers\, seafood share platters and flathead & chips\, options for lunch and dinner. \n  \n 
URL:https://sunshinebrewery.com.au/event/classic-burgers-with-neats-eats/
CATEGORIES:Food Truck
ATTACH;FMTTYPE=image/jpeg:https://sunshinebrewery.com.au/wp-content/uploads/2025/08/Cheeki-Chicken-Burger-1.jpg
END:VEVENT
BEGIN:VEVENT
DTSTART;TZID=Australia/Brisbane:20260327T120000
DTEND;TZID=Australia/Brisbane:20260327T190000
DTSTAMP:20260420T094635
CREATED:20260305T064622Z
LAST-MODIFIED:20260326T003815Z
UID:4153-1774612800-1774638000@sunshinebrewery.com.au
SUMMARY:All Good Turkish Street Food  - Cancelled
DESCRIPTION:Today we have Aysha with her very new Food Van – All Good Turkish Street Food.   Check out the menu and come and sample the Gozieme\, falafel or kofte\, as Aysha draws on her heritage to inspire the menu \n 
URL:https://sunshinebrewery.com.au/event/all-good-turkish-street-food/
CATEGORIES:Food Truck
END:VEVENT
BEGIN:VEVENT
DTSTART;TZID=Australia/Brisbane:20260410T120000
DTEND;TZID=Australia/Brisbane:20260410T190000
DTSTAMP:20260420T094635
CREATED:20210221T074215Z
LAST-MODIFIED:20260325T075016Z
UID:1739-1775822400-1775847600@sunshinebrewery.com.au
SUMMARY:Heavenly Cuisine - Korean Feast
DESCRIPTION:Imagine Crispy Fried Chicken with a spicy authentic Korean sauce ………    sounds like all you need is a beer to top it off! \nWe are very excited to host Sean Kim and his Korean Food Cart here at the brewery for lunch and dinner. – Craig says\, “BEST wrap ever ….”  Or enjoy his super share plates \n 
URL:https://sunshinebrewery.com.au/event/today-we-go-to-korea/
CATEGORIES:Food Truck
ATTACH;FMTTYPE=image/jpeg:https://sunshinebrewery.com.au/wp-content/uploads/2021/02/Heavenly-stand.jpg
END:VEVENT
BEGIN:VEVENT
DTSTART;TZID=Australia/Brisbane:20260416T120000
DTEND;TZID=Australia/Brisbane:20260416T190000
DTSTAMP:20260420T094635
CREATED:20250823T030538Z
LAST-MODIFIED:20260416T030254Z
UID:3951-1776340800-1776366000@sunshinebrewery.com.au
SUMMARY:Classic Burgers & Beer
DESCRIPTION:An all NEW Food Van – Neat’s Eats  – Anita and Kev will be offering classic fare – burgers and chips ….and seafood share platters
URL:https://sunshinebrewery.com.au/event/classic-burgers-beer/
CATEGORIES:Food Truck
ATTACH;FMTTYPE=image/jpeg:https://sunshinebrewery.com.au/wp-content/uploads/2025/08/Cheeki-Chicken-Burger-1.jpg
END:VEVENT
BEGIN:VEVENT
DTSTART;TZID=Australia/Brisbane:20260417T120000
DTEND;TZID=Australia/Brisbane:20260417T190000
DTSTAMP:20260420T094635
CREATED:20250823T030248Z
LAST-MODIFIED:20260416T030321Z
UID:3949-1776427200-1776452400@sunshinebrewery.com.au
SUMMARY:Classic Burgers for Lunch & Dinner
DESCRIPTION:An all NEW Food Van – Neat’s Eats  – Anita and Kev will be offering classic fare – burgers and chips ….fish and chips and a new Seafood Platter \n 
URL:https://sunshinebrewery.com.au/event/classic-burgers-for-lunch-dinner/
CATEGORIES:Food Truck
ATTACH;FMTTYPE=image/jpeg:https://sunshinebrewery.com.au/wp-content/uploads/2025/08/Cheeki-Chicken-Burger-2-scaled.jpg
END:VEVENT
BEGIN:VEVENT
DTSTART;TZID=Australia/Brisbane:20260419T153000
DTEND;TZID=Australia/Brisbane:20260419T190000
DTSTAMP:20260420T094635
CREATED:20250918T023625Z
LAST-MODIFIED:20260325T074448Z
UID:3979-1776612600-1776625200@sunshinebrewery.com.au
SUMMARY:Live Music & Greek
DESCRIPTION:Music by Steve Schultz and the crew of Spex.   Spex is a dynamic 4-piece cover band hailing from Buderim\, bringing together a wealth of musical experience and a shared passion for timeless tunes. Formed by seasoned musicians with decades of playing under their belts\, the band delivers an electrifying mix of blues\, rock\, funk\, and beyond. With each member bringing their own unique influences and musical history to the table\, No Requests guarantees an unforgettable live experience\, filled with classic tracks and fresh energy. Whether you’re a fan of soulful grooves\, electrifying rock anthems\, or funky rhythms\, Spex has something to keep you dancing all night long. \nTeamed with Yeeros and Greek specialties from Akropolis Noosa from 3.30pm
URL:https://sunshinebrewery.com.au/event/live-music-italian-wood-fired-pizza/
CATEGORIES:Food Truck,Live Music
ATTACH;FMTTYPE=image/jpeg:https://sunshinebrewery.com.au/wp-content/uploads/2021/11/steve-schultz.jpg
END:VEVENT
BEGIN:VEVENT
DTSTART;TZID=Australia/Brisbane:20260425T130000
DTEND;TZID=Australia/Brisbane:20260425T190000
DTSTAMP:20260420T094635
CREATED:20260325T080011Z
LAST-MODIFIED:20260325T080011Z
UID:4172-1777122000-1777143600@sunshinebrewery.com.au
SUMMARY:Digger Day!  -   The remote-controlled kind\, Plus Pizza
DESCRIPTION:Today we are celebrating our ANZAC heritage doing something very different – something for the whole family…… \nWe are celebrating Digger Day with a huge sandpit in the middle of the brewery and remote-controlled diggers and trucks from Mick at Lilliput Mining Australia.  Sign up individually or as a team\, done your helmet and fluro vest and try your hand to uncover tokens and win prizes \nPlus we will have Carlo and Agata or Dough’s Guys Pizza\, throwing the dough from 3pm\, for authentic Italian Pizza
URL:https://sunshinebrewery.com.au/event/digger-day-the-remote-controlled-kind-plus-pizza/
CATEGORIES:Food Truck
ATTACH;FMTTYPE=image/png:https://sunshinebrewery.com.au/wp-content/uploads/2026/03/lilliput-mining.png
END:VEVENT
BEGIN:VEVENT
DTSTART;TZID=Australia/Brisbane:20260501T120000
DTEND;TZID=Australia/Brisbane:20260501T190000
DTSTAMP:20260420T094635
CREATED:20251106T021802Z
LAST-MODIFIED:20260325T074246Z
UID:4043-1777636800-1777662000@sunshinebrewery.com.au
SUMMARY:Seki Street Eats
DESCRIPTION:Today we have an all new food Van – Chef Denise has launched out of her own with Seki Street Eats – Check out the menu ! \nI know I am looking forward to trying the Croque Monshroom
URL:https://sunshinebrewery.com.au/event/seki-street-eats-2/
CATEGORIES:Food Truck
ATTACH;FMTTYPE=image/jpeg:https://sunshinebrewery.com.au/wp-content/uploads/2025/11/Seki-street-eats-menu.jpg
END:VEVENT
END:VCALENDAR