BEGIN:VCALENDAR
VERSION:2.0
PRODID:-//Sunshine Brewery - ECPv6.15.15//NONSGML v1.0//EN
CALSCALE:GREGORIAN
METHOD:PUBLISH
X-ORIGINAL-URL:https://sunshinebrewery.com.au
X-WR-CALDESC:Events for Sunshine Brewery
REFRESH-INTERVAL;VALUE=DURATION:PT1H
X-Robots-Tag:noindex
X-PUBLISHED-TTL:PT1H
BEGIN:VTIMEZONE
TZID:Australia/Brisbane
BEGIN:STANDARD
TZOFFSETFROM:+1000
TZOFFSETTO:+1000
TZNAME:AEST
DTSTART:20240101T000000
END:STANDARD
END:VTIMEZONE
BEGIN:VEVENT
DTSTART;TZID=Australia/Brisbane:20250606T113000
DTEND;TZID=Australia/Brisbane:20250606T190000
DTSTAMP:20260420T012429
CREATED:20250523T022321Z
LAST-MODIFIED:20250523T022321Z
UID:3787-1749209400-1749236400@sunshinebrewery.com.au
SUMMARY:Sunshine Toastie
DESCRIPTION:It’s Queensland Day and we are enjoying a classic – Gourmet Toasties for Lunch and Dinner.   Ash puts a lot of love into these with some amazing combinations from the classic Reuben to a Chorizo melt with smokey chorizo\, roast capsicum\, cheese\, spinach and chilli mayo.  Plus a selection of loaded fries
URL:https://sunshinebrewery.com.au/event/sunshine-toastie/
CATEGORIES:Food Truck
ATTACH;FMTTYPE=image/jpeg:https://sunshinebrewery.com.au/wp-content/uploads/2023/10/IMG_8078.jpeg
END:VEVENT
END:VCALENDAR