BEGIN:VCALENDAR
VERSION:2.0
PRODID:-//Sunshine Brewery - ECPv6.15.15//NONSGML v1.0//EN
CALSCALE:GREGORIAN
METHOD:PUBLISH
X-WR-CALNAME:Sunshine Brewery
X-ORIGINAL-URL:https://sunshinebrewery.com.au
X-WR-CALDESC:Events for Sunshine Brewery
REFRESH-INTERVAL;VALUE=DURATION:PT1H
X-Robots-Tag:noindex
X-PUBLISHED-TTL:PT1H
BEGIN:VTIMEZONE
TZID:Australia/Brisbane
BEGIN:STANDARD
TZOFFSETFROM:+1000
TZOFFSETTO:+1000
TZNAME:AEST
DTSTART:20240101T000000
END:STANDARD
END:VTIMEZONE
BEGIN:VEVENT
DTSTART;TZID=Australia/Brisbane:20250606T113000
DTEND;TZID=Australia/Brisbane:20250606T190000
DTSTAMP:20260420T000045
CREATED:20250523T022321Z
LAST-MODIFIED:20250523T022321Z
UID:3787-1749209400-1749236400@sunshinebrewery.com.au
SUMMARY:Sunshine Toastie
DESCRIPTION:It’s Queensland Day and we are enjoying a classic – Gourmet Toasties for Lunch and Dinner.   Ash puts a lot of love into these with some amazing combinations from the classic Reuben to a Chorizo melt with smokey chorizo\, roast capsicum\, cheese\, spinach and chilli mayo.  Plus a selection of loaded fries
URL:https://sunshinebrewery.com.au/event/sunshine-toastie/
CATEGORIES:Food Truck
ATTACH;FMTTYPE=image/jpeg:https://sunshinebrewery.com.au/wp-content/uploads/2023/10/IMG_8078.jpeg
END:VEVENT
BEGIN:VEVENT
DTSTART;TZID=Australia/Brisbane:20250619T120000
DTEND;TZID=Australia/Brisbane:20250619T190000
DTSTAMP:20260420T000045
CREATED:20250419T040346Z
LAST-MODIFIED:20250618T011536Z
UID:3672-1750334400-1750359600@sunshinebrewery.com.au
SUMMARY:Thursday Jug Day  - sorry no Greek today
DESCRIPTION:Today is Jug Day which means a jug of beer at a special price and the feature beer is Hop Therapy .  –  an English-style IPA at 5.3% – Always our most popular beer….. \n 
URL:https://sunshinebrewery.com.au/event/greek-thursday-jug-day/
CATEGORIES:Food Truck
END:VEVENT
BEGIN:VEVENT
DTSTART;TZID=Australia/Brisbane:20250621T130000
DTEND;TZID=Australia/Brisbane:20250621T170000
DTSTAMP:20260420T000045
CREATED:20250419T045044Z
LAST-MODIFIED:20250618T011858Z
UID:3679-1750510800-1750525200@sunshinebrewery.com.au
SUMMARY:Beer & Oysters & Food Boss Catering
DESCRIPTION:Anyone who attended these events in the past will remember how good they are and how quick we run out of oysters.   This time we are working with Brad and the team of ATP Seafoods to deliver us with Coffin Bay Oysters fresh to order….  Brad says at this time of year they are going to be at their absolute best – big and salty \nWe have one keg left of the big Chocolate Rye Stout (8.6%)\, which we have reserved especially for this event – try a little poured into your oyster….. \nPre order your tickets at $26 a dozen\, and we will have them ready to serve with trimmings.  Book your Oysters here before 5pm on Monday 16 June \nThe ATP team will be taking orders for take home prawns\, oysters and other seafood\, which you can collect from Brad at the same time. Order at www.atpseafood.com.au select Sunshine Brewery as your pickup address\, and there will be no minimum order requirements     \nAnd there is a good chance there will be some lucky door prizes for ticket holders too \nWe will also have Food Boss Catering here\, so expect some amazing food to follow your oyster entrée.
URL:https://sunshinebrewery.com.au/event/beer-and-oysters/
CATEGORIES:Food Truck,Swig & Shuck
ATTACH;FMTTYPE=image/jpeg:https://sunshinebrewery.com.au/wp-content/uploads/2025/04/Brad-of-ATP-trying-beer-and-oyster-combo-1.jpg
END:VEVENT
BEGIN:VEVENT
DTSTART;TZID=Australia/Brisbane:20250626T093000
DTEND;TZID=Australia/Brisbane:20250626T190000
DTSTAMP:20260420T000045
CREATED:20250402T042747Z
LAST-MODIFIED:20250618T011708Z
UID:3610-1750930200-1750964400@sunshinebrewery.com.au
SUMMARY:Going Greek and Jug Day
DESCRIPTION:Come and see chef Yianni of Akropolis Noosa for a feast of authentic Greek Street Food\, straight off the grill.   Everything is made fresh and is hand cut and seasoned by Yianni\, as he calls upon his heritage and formal training in traditional Greek cuisine. \nAnd Thursday means you can share a jug of beer with a Mate and today’s jug special is a new beer – Mandarin Gose \n 
URL:https://sunshinebrewery.com.au/event/going-greek-and-jug-day/
CATEGORIES:Food Truck
ATTACH;FMTTYPE=image/jpeg:https://sunshinebrewery.com.au/wp-content/uploads/2024/04/Hand-cut-Seasoned-Calamari-1.jpg
END:VEVENT
END:VCALENDAR