BEGIN:VCALENDAR
VERSION:2.0
PRODID:-//Sunshine Brewery - ECPv6.15.15//NONSGML v1.0//EN
CALSCALE:GREGORIAN
METHOD:PUBLISH
X-WR-CALNAME:Sunshine Brewery
X-ORIGINAL-URL:https://sunshinebrewery.com.au
X-WR-CALDESC:Events for Sunshine Brewery
REFRESH-INTERVAL;VALUE=DURATION:PT1H
X-Robots-Tag:noindex
X-PUBLISHED-TTL:PT1H
BEGIN:VTIMEZONE
TZID:Australia/Brisbane
BEGIN:STANDARD
TZOFFSETFROM:+1000
TZOFFSETTO:+1000
TZNAME:AEST
DTSTART:20230101T000000
END:STANDARD
END:VTIMEZONE
BEGIN:VEVENT
DTSTART;TZID=Australia/Brisbane:20240425T160000
DTEND;TZID=Australia/Brisbane:20240425T190000
DTSTAMP:20260424T231259
CREATED:20240410T065253Z
LAST-MODIFIED:20240410T065314Z
UID:2744-1714060800-1714071600@sunshinebrewery.com.au
SUMMARY:ANZAC DAY Brewers Table Event
DESCRIPTION:ANZAC DAY Beer and History Event keeping the ANZAC spirit alive and honouring  the WW1 Black Diggers who fought for us. \nWe will kick off with a tipple of courage from Sunshine & Sons (aka Nil Desperandum rum) and a ration pack for each attendee. Plus there will be a dedicated beer for the event. \nPeter Lawrence will be educating us on some of the little-known history from WW1 – Gallipoli: Unknown facts and First Nations Service in WW1.  Anyone who has attended these events in the past\, knows how engaging and enthralling Pete’s delivery is. \nAnd we will be finishing the day with multiple games of two up\, so get your spinners hand in shape and bring lots of gold coin to add to the fun.  This is a ticket event so secure your tickets here
URL:https://sunshinebrewery.com.au/event/anzac-day-brewers-table-event/
CATEGORIES:Brewers Table Event
ATTACH;FMTTYPE=image/jpeg:https://sunshinebrewery.com.au/wp-content/uploads/2024/04/ANZAC-2024-2-scaled.jpg
END:VEVENT
END:VCALENDAR