BEGIN:VCALENDAR
VERSION:2.0
PRODID:-//Sunshine Brewery - ECPv6.15.15//NONSGML v1.0//EN
CALSCALE:GREGORIAN
METHOD:PUBLISH
X-ORIGINAL-URL:https://sunshinebrewery.com.au
X-WR-CALDESC:Events for Sunshine Brewery
REFRESH-INTERVAL;VALUE=DURATION:PT1H
X-Robots-Tag:noindex
X-PUBLISHED-TTL:PT1H
BEGIN:VTIMEZONE
TZID:Australia/Brisbane
BEGIN:STANDARD
TZOFFSETFROM:+1000
TZOFFSETTO:+1000
TZNAME:AEST
DTSTART:20250101T000000
END:STANDARD
END:VTIMEZONE
BEGIN:VEVENT
DTSTART;TZID=Australia/Brisbane:20260321T120000
DTEND;TZID=Australia/Brisbane:20260321T160000
DTSTAMP:20260424T225420
CREATED:20260305T062947Z
LAST-MODIFIED:20260305T062947Z
UID:4151-1774094400-1774108800@sunshinebrewery.com.au
SUMMARY:BBQ Masterclass - sold out
DESCRIPTION:The first four-hour low and slow class of 2026 has already sold out  – check the next one on 28 March
URL:https://sunshinebrewery.com.au/event/bbq-masterclass-sold-out/
CATEGORIES:Low & Slow BBQ Classes
END:VEVENT
END:VCALENDAR