BEGIN:VCALENDAR
VERSION:2.0
PRODID:-//Sunshine Brewery - ECPv6.15.15//NONSGML v1.0//EN
CALSCALE:GREGORIAN
METHOD:PUBLISH
X-ORIGINAL-URL:https://sunshinebrewery.com.au
X-WR-CALDESC:Events for Sunshine Brewery
REFRESH-INTERVAL;VALUE=DURATION:PT1H
X-Robots-Tag:noindex
X-PUBLISHED-TTL:PT1H
BEGIN:VTIMEZONE
TZID:Australia/Brisbane
BEGIN:STANDARD
TZOFFSETFROM:+1000
TZOFFSETTO:+1000
TZNAME:AEST
DTSTART:20250101T000000
END:STANDARD
END:VTIMEZONE
BEGIN:VEVENT
DTSTART;TZID=Australia/Brisbane:20260121T150000
DTEND;TZID=Australia/Brisbane:20260121T190000
DTSTAMP:20260425T014001
CREATED:20260101T041634Z
LAST-MODIFIED:20260101T041634Z
UID:4109-1769007600-1769022000@sunshinebrewery.com.au
SUMMARY:Brewery Open from 3pm
DESCRIPTION:
URL:https://sunshinebrewery.com.au/event/brewery-open-from-3pm-2/
END:VEVENT
END:VCALENDAR